BEGIN:VCALENDAR
VERSION:2.0
PRODID:-//桶狭間ミニバスケットボールクラブ - ECPv4.9.4//NONSGML v1.0//EN
CALSCALE:GREGORIAN
METHOD:PUBLISH
X-WR-CALNAME:桶狭間ミニバスケットボールクラブ
X-ORIGINAL-URL:https://ombbc.e-ysd.net
X-WR-CALDESC:桶狭間ミニバスケットボールクラブ のイベント
BEGIN:VTIMEZONE
TZID:"Asia/Tokyo"
BEGIN:STANDARD
TZOFFSETFROM:+0900
TZOFFSETTO:+0900
TZNAME:JST
DTSTART:20260101T000000
END:STANDARD
END:VTIMEZONE
BEGIN:VEVENT
DTSTART;VALUE=DATE:20260223
DTEND;VALUE=DATE:20260224
DTSTAMP:20260419T234643
CREATED:20251209T102443Z
LAST-MODIFIED:20251209T102703Z
UID:3392-1771804800-1771891199@ombbc.e-ysd.net
SUMMARY:TKSカップ
DESCRIPTION:TKSカップin八百津小学校 \n9:00～17:00 \n（6年生・久・糸・井） \n
URL:https://ombbc.e-ysd.net/event/tks%e3%82%ab%e3%83%83%e3%83%97-2/
END:VEVENT
END:VCALENDAR