BEGIN:VCALENDAR
VERSION:2.0
PRODID:-//桶狭間ミニバスケットボールクラブ - ECPv4.9.4//NONSGML v1.0//EN
CALSCALE:GREGORIAN
METHOD:PUBLISH
X-WR-CALNAME:桶狭間ミニバスケットボールクラブ
X-ORIGINAL-URL:https://ombbc.e-ysd.net
X-WR-CALDESC:桶狭間ミニバスケットボールクラブ のイベント
BEGIN:VTIMEZONE
TZID:"Asia/Tokyo"
BEGIN:STANDARD
TZOFFSETFROM:+0900
TZOFFSETTO:+0900
TZNAME:JST
DTSTART:20250101T000000
END:STANDARD
END:VTIMEZONE
BEGIN:VEVENT
DTSTART;VALUE=DATE:20250518
DTEND;VALUE=DATE:20250519
DTSTAMP:20260422T101727
CREATED:20250429T055147Z
LAST-MODIFIED:20250429T055147Z
UID:3034-1747526400-1747612799@ombbc.e-ysd.net
SUMMARY:T＆Kチャレンジカップ
DESCRIPTION:T＆Kチャレンジカップin木曽岬町総合体育館 \n9:00～17:00 \n（4・5年生・山・日） \n
URL:https://ombbc.e-ysd.net/event/t%ef%bc%86k%e3%83%81%e3%83%a3%e3%83%ac%e3%83%b3%e3%82%b8%e3%82%ab%e3%83%83%e3%83%97-2/
END:VEVENT
END:VCALENDAR