BEGIN:VCALENDAR
VERSION:2.0
PRODID:-//桶狭間ミニバスケットボールクラブ - ECPv4.9.4//NONSGML v1.0//EN
CALSCALE:GREGORIAN
METHOD:PUBLISH
X-WR-CALNAME:桶狭間ミニバスケットボールクラブ
X-ORIGINAL-URL:https://ombbc.e-ysd.net
X-WR-CALDESC:桶狭間ミニバスケットボールクラブ のイベント
BEGIN:VTIMEZONE
TZID:"Asia/Tokyo"
BEGIN:STANDARD
TZOFFSETFROM:+0900
TZOFFSETTO:+0900
TZNAME:JST
DTSTART:20250101T000000
END:STANDARD
END:VTIMEZONE
BEGIN:VEVENT
DTSTART;VALUE=DATE:20250628
DTEND;VALUE=DATE:20250630
DTSTAMP:20260422T083548
CREATED:20250519T213530Z
LAST-MODIFIED:20250519T213530Z
UID:3063-1751068800-1751241599@ombbc.e-ysd.net
SUMMARY:FUNBRATS GIRLS CUP
DESCRIPTION:FUNBRATS GIRLS CUP in敦賀市粟野スポーツセンター \n9:00～18:00 \n（6年生・久・糸・井） \n宿泊　山本旅館 \n
URL:https://ombbc.e-ysd.net/event/funbrats-girls-cup/
END:VEVENT
END:VCALENDAR