BEGIN:VCALENDAR
VERSION:2.0
PRODID:-//桶狭間ミニバスケットボールクラブ - ECPv4.9.4//NONSGML v1.0//EN
CALSCALE:GREGORIAN
METHOD:PUBLISH
X-WR-CALNAME:桶狭間ミニバスケットボールクラブ
X-ORIGINAL-URL:https://ombbc.e-ysd.net
X-WR-CALDESC:桶狭間ミニバスケットボールクラブ のイベント
BEGIN:VTIMEZONE
TZID:"Asia/Tokyo"
BEGIN:STANDARD
TZOFFSETFROM:+0900
TZOFFSETTO:+0900
TZNAME:JST
DTSTART:20250101T000000
END:STANDARD
END:VTIMEZONE
BEGIN:VEVENT
DTSTART;VALUE=DATE:20251214
DTEND;VALUE=DATE:20251215
DTSTAMP:20260419T234510
CREATED:20251018T224235Z
LAST-MODIFIED:20251018T224235Z
UID:3297-1765670400-1765756799@ombbc.e-ysd.net
SUMMARY:ESカップ
DESCRIPTION:ESカップin明智中学校 \n9:00～17:00 \n（6年生・久・糸・井） \n
URL:https://ombbc.e-ysd.net/event/es%e3%82%ab%e3%83%83%e3%83%97/
END:VEVENT
END:VCALENDAR