BEGIN:VCALENDAR
VERSION:2.0
PRODID:-//桶狭間ミニバスケットボールクラブ - ECPv4.9.4//NONSGML v1.0//EN
CALSCALE:GREGORIAN
METHOD:PUBLISH
X-WR-CALNAME:桶狭間ミニバスケットボールクラブ
X-ORIGINAL-URL:https://ombbc.e-ysd.net
X-WR-CALDESC:桶狭間ミニバスケットボールクラブ のイベント
BEGIN:VTIMEZONE
TZID:"Asia/Tokyo"
BEGIN:STANDARD
TZOFFSETFROM:+0900
TZOFFSETTO:+0900
TZNAME:JST
DTSTART:20260101T000000
END:STANDARD
END:VTIMEZONE
BEGIN:VEVENT
DTSTART;VALUE=DATE:20260328
DTEND;VALUE=DATE:20260329
DTSTAMP:20260419T191310
CREATED:20251209T104529Z
LAST-MODIFIED:20260215T063811Z
UID:3402-1774656000-1774742399@ombbc.e-ysd.net
SUMMARY:B3前座試合
DESCRIPTION:B3前座試合in東員町総合体育館 \n10:30～17:00 \n（6年生・糸・井） \n
URL:https://ombbc.e-ysd.net/event/b3%e5%89%8d%e5%ba%a7%e8%a9%a6%e5%90%88/
END:VEVENT
END:VCALENDAR