BEGIN:VCALENDAR
VERSION:2.0
PRODID:-//桶狭間ミニバスケットボールクラブ - ECPv4.9.4//NONSGML v1.0//EN
CALSCALE:GREGORIAN
METHOD:PUBLISH
X-WR-CALNAME:桶狭間ミニバスケットボールクラブ
X-ORIGINAL-URL:https://ombbc.e-ysd.net
X-WR-CALDESC:桶狭間ミニバスケットボールクラブ のイベント
BEGIN:VTIMEZONE
TZID:"Asia/Tokyo"
BEGIN:STANDARD
TZOFFSETFROM:+0900
TZOFFSETTO:+0900
TZNAME:JST
DTSTART:20260101T000000
END:STANDARD
END:VTIMEZONE
BEGIN:VEVENT
DTSTART;VALUE=DATE:20260211
DTEND;VALUE=DATE:20260212
DTSTAMP:20260419T204105
CREATED:20260105T071129Z
LAST-MODIFIED:20260105T071129Z
UID:3442-1770768000-1770854399@ombbc.e-ysd.net
SUMMARY:55交流会
DESCRIPTION:55交流会in一宮市富士小学校 \n9:00～17:00 \n（6年生・久・糸・井） \n
URL:https://ombbc.e-ysd.net/event/55%e4%ba%a4%e6%b5%81%e4%bc%9a/
END:VEVENT
END:VCALENDAR