BEGIN:VCALENDAR
VERSION:2.0
PRODID:-//桶狭間ミニバスケットボールクラブ - ECPv4.9.4//NONSGML v1.0//EN
CALSCALE:GREGORIAN
METHOD:PUBLISH
X-WR-CALNAME:桶狭間ミニバスケットボールクラブ
X-ORIGINAL-URL:https://ombbc.e-ysd.net
X-WR-CALDESC:桶狭間ミニバスケットボールクラブ のイベント
BEGIN:VTIMEZONE
TZID:"Asia/Tokyo"
BEGIN:STANDARD
TZOFFSETFROM:+0900
TZOFFSETTO:+0900
TZNAME:JST
DTSTART:20260101T000000
END:STANDARD
END:VTIMEZONE
BEGIN:VEVENT
DTSTART;VALUE=DATE:20260228
DTEND;VALUE=DATE:20260301
DTSTAMP:20260419T191831
CREATED:20260219T101805Z
LAST-MODIFIED:20260219T101805Z
UID:3527-1772236800-1772323199@ombbc.e-ysd.net
SUMMARY:4年生以下お休み
DESCRIPTION:4年生以下お休み \n
URL:https://ombbc.e-ysd.net/event/4%e5%b9%b4%e7%94%9f%e4%bb%a5%e4%b8%8b%e3%81%8a%e4%bc%91%e3%81%bf-7/
END:VEVENT
END:VCALENDAR