BEGIN:VCALENDAR
VERSION:2.0
PRODID:-//桶狭間ミニバスケットボールクラブ - ECPv4.9.4//NONSGML v1.0//EN
CALSCALE:GREGORIAN
METHOD:PUBLISH
X-WR-CALNAME:桶狭間ミニバスケットボールクラブ
X-ORIGINAL-URL:https://ombbc.e-ysd.net
X-WR-CALDESC:桶狭間ミニバスケットボールクラブ のイベント
BEGIN:VTIMEZONE
TZID:"Asia/Tokyo"
BEGIN:STANDARD
TZOFFSETFROM:+0900
TZOFFSETTO:+0900
TZNAME:JST
DTSTART:20250101T000000
END:STANDARD
END:VTIMEZONE
BEGIN:VEVENT
DTSTART;VALUE=DATE:20251221
DTEND;VALUE=DATE:20251222
DTSTAMP:20260420T012156
CREATED:20251120T062451Z
LAST-MODIFIED:20251120T062523Z
UID:3368-1766275200-1766361599@ombbc.e-ysd.net
SUMMARY:3年生以下お休み
DESCRIPTION:
URL:https://ombbc.e-ysd.net/event/3%e5%b9%b4%e7%94%9f%e4%bb%a5%e4%b8%8b%e3%81%8a%e4%bc%91%e3%81%bf-3/
END:VEVENT
END:VCALENDAR