BEGIN:VCALENDAR
VERSION:2.0
PRODID:-//桶狭間ミニバスケットボールクラブ - ECPv4.9.4//NONSGML v1.0//EN
CALSCALE:GREGORIAN
METHOD:PUBLISH
X-WR-CALNAME:桶狭間ミニバスケットボールクラブ
X-ORIGINAL-URL:https://ombbc.e-ysd.net
X-WR-CALDESC:桶狭間ミニバスケットボールクラブ のイベント
BEGIN:VTIMEZONE
TZID:"Asia/Tokyo"
BEGIN:STANDARD
TZOFFSETFROM:+0900
TZOFFSETTO:+0900
TZNAME:JST
DTSTART:20250101T000000
END:STANDARD
END:VTIMEZONE
BEGIN:VEVENT
DTSTART;VALUE=DATE:20250914
DTEND;VALUE=DATE:20250915
DTSTAMP:20260420T043551
CREATED:20250816T041833Z
LAST-MODIFIED:20250816T041833Z
UID:3187-1757808000-1757894399@ombbc.e-ysd.net
SUMMARY:1st BCT CUP
DESCRIPTION:1st BCT CUPin瀬戸市民体育館 \n9:00～17:00 \n（6年・久・糸・井） \n
URL:https://ombbc.e-ysd.net/event/1st-bct-cup/
END:VEVENT
END:VCALENDAR