BEGIN:VCALENDAR
VERSION:2.0
PRODID:-//桶狭間ミニバスケットボールクラブ - ECPv4.9.4//NONSGML v1.0//EN
CALSCALE:GREGORIAN
METHOD:PUBLISH
X-WR-CALNAME:桶狭間ミニバスケットボールクラブ
X-ORIGINAL-URL:https://ombbc.e-ysd.net
X-WR-CALDESC:桶狭間ミニバスケットボールクラブ のイベント
BEGIN:VTIMEZONE
TZID:"Asia/Tokyo"
BEGIN:STANDARD
TZOFFSETFROM:+0900
TZOFFSETTO:+0900
TZNAME:JST
DTSTART:20260101T000000
END:STANDARD
END:VTIMEZONE
BEGIN:VEVENT
DTSTART;VALUE=DATE:20260221
DTEND;VALUE=DATE:20260222
DTSTAMP:20260419T220213
CREATED:20260121T220548Z
LAST-MODIFIED:20260121T220548Z
UID:3487-1771632000-1771718399@ombbc.e-ysd.net
SUMMARY:３年生以下お休み
DESCRIPTION:３年生以下お休み \n
URL:https://ombbc.e-ysd.net/event/%ef%bc%93%e5%b9%b4%e7%94%9f%e4%bb%a5%e4%b8%8b%e3%81%8a%e4%bc%91%e3%81%bf-2/
END:VEVENT
END:VCALENDAR