BEGIN:VCALENDAR
VERSION:2.0
PRODID:-//桶狭間ミニバスケットボールクラブ - ECPv4.9.4//NONSGML v1.0//EN
CALSCALE:GREGORIAN
METHOD:PUBLISH
X-WR-CALNAME:桶狭間ミニバスケットボールクラブ
X-ORIGINAL-URL:https://ombbc.e-ysd.net
X-WR-CALDESC:桶狭間ミニバスケットボールクラブ のイベント
BEGIN:VTIMEZONE
TZID:"Asia/Tokyo"
BEGIN:STANDARD
TZOFFSETFROM:+0900
TZOFFSETTO:+0900
TZNAME:JST
DTSTART:20250101T000000
END:STANDARD
END:VTIMEZONE
BEGIN:VEVENT
DTSTART;VALUE=DATE:20251025
DTEND;VALUE=DATE:20251026
DTSTAMP:20260420T030528
CREATED:20250830T033656Z
LAST-MODIFIED:20250830T033827Z
UID:3244-1761350400-1761436799@ombbc.e-ysd.net
SUMMARY:飛島村長杯
DESCRIPTION:飛島村長杯in飛島総合体育館 \n9:00～17:00 \n（6年・久・糸・井） \n
URL:https://ombbc.e-ysd.net/event/%e9%a3%9b%e5%b3%b6%e6%9d%91%e9%95%b7%e6%9d%af-9/
END:VEVENT
END:VCALENDAR