BEGIN:VCALENDAR
VERSION:2.0
PRODID:-//桶狭間ミニバスケットボールクラブ - ECPv4.9.4//NONSGML v1.0//EN
CALSCALE:GREGORIAN
METHOD:PUBLISH
X-WR-CALNAME:桶狭間ミニバスケットボールクラブ
X-ORIGINAL-URL:https://ombbc.e-ysd.net
X-WR-CALDESC:桶狭間ミニバスケットボールクラブ のイベント
BEGIN:VTIMEZONE
TZID:"Asia/Tokyo"
BEGIN:STANDARD
TZOFFSETFROM:+0900
TZOFFSETTO:+0900
TZNAME:JST
DTSTART:20260101T000000
END:STANDARD
END:VTIMEZONE
BEGIN:VEVENT
DTSTART;VALUE=DATE:20260301
DTEND;VALUE=DATE:20260302
DTSTAMP:20260419T191321
CREATED:20260219T102009Z
LAST-MODIFIED:20260219T102009Z
UID:3529-1772323200-1772409599@ombbc.e-ysd.net
SUMMARY:豊明市民大会
DESCRIPTION:豊明市民大会in豊明福祉体育館 \n9:00～17:00 \n（5年・4年生以下の2チームで参加・山・水・日） \n
URL:https://ombbc.e-ysd.net/event/%e8%b1%8a%e6%98%8e%e5%b8%82%e6%b0%91%e5%a4%a7%e4%bc%9a/
END:VEVENT
END:VCALENDAR