BEGIN:VCALENDAR
VERSION:2.0
PRODID:-//桶狭間ミニバスケットボールクラブ - ECPv4.9.4//NONSGML v1.0//EN
CALSCALE:GREGORIAN
METHOD:PUBLISH
X-WR-CALNAME:桶狭間ミニバスケットボールクラブ
X-ORIGINAL-URL:https://ombbc.e-ysd.net
X-WR-CALDESC:桶狭間ミニバスケットボールクラブ のイベント
BEGIN:VTIMEZONE
TZID:"Asia/Tokyo"
BEGIN:STANDARD
TZOFFSETFROM:+0900
TZOFFSETTO:+0900
TZNAME:JST
DTSTART:20250101T000000
END:STANDARD
END:VTIMEZONE
BEGIN:VEVENT
DTSTART;VALUE=DATE:20251101
DTEND;VALUE=DATE:20251102
DTSTAMP:20260420T024938
CREATED:20250920T212747Z
LAST-MODIFIED:20250920T212756Z
UID:3276-1761955200-1762041599@ombbc.e-ysd.net
SUMMARY:豊明カップ（秋）
DESCRIPTION:豊明カップ（秋）in木曽岬町体育館 \n9:00～17:00 \n（4・5年生・山） \n  \n
URL:https://ombbc.e-ysd.net/event/%e8%b1%8a%e6%98%8e%e3%82%ab%e3%83%83%e3%83%97%ef%bc%88%e7%a7%8b%ef%bc%89-2/
END:VEVENT
END:VCALENDAR