BEGIN:VCALENDAR
VERSION:2.0
PRODID:-//桶狭間ミニバスケットボールクラブ - ECPv4.9.4//NONSGML v1.0//EN
CALSCALE:GREGORIAN
METHOD:PUBLISH
X-WR-CALNAME:桶狭間ミニバスケットボールクラブ
X-ORIGINAL-URL:https://ombbc.e-ysd.net
X-WR-CALDESC:桶狭間ミニバスケットボールクラブ のイベント
BEGIN:VTIMEZONE
TZID:"Asia/Tokyo"
BEGIN:STANDARD
TZOFFSETFROM:+0900
TZOFFSETTO:+0900
TZNAME:JST
DTSTART:20250101T000000
END:STANDARD
END:VTIMEZONE
BEGIN:VEVENT
DTSTART;VALUE=DATE:20250713
DTEND;VALUE=DATE:20250714
DTSTAMP:20260420T075548
CREATED:20250611T232130Z
LAST-MODIFIED:20250611T232130Z
UID:3118-1752364800-1752451199@ombbc.e-ysd.net
SUMMARY:豊明カップ　夏
DESCRIPTION:豊明カップin南知多町総合体育館 \n9:00～17:00 \n（6年生・久・糸・井） \n
URL:https://ombbc.e-ysd.net/event/%e8%b1%8a%e6%98%8e%e3%82%ab%e3%83%83%e3%83%97%e3%80%80%e5%a4%8f/
END:VEVENT
END:VCALENDAR