BEGIN:VCALENDAR
VERSION:2.0
PRODID:-//桶狭間ミニバスケットボールクラブ - ECPv4.9.4//NONSGML v1.0//EN
CALSCALE:GREGORIAN
METHOD:PUBLISH
X-WR-CALNAME:桶狭間ミニバスケットボールクラブ
X-ORIGINAL-URL:https://ombbc.e-ysd.net
X-WR-CALDESC:桶狭間ミニバスケットボールクラブ のイベント
BEGIN:VTIMEZONE
TZID:"Asia/Tokyo"
BEGIN:STANDARD
TZOFFSETFROM:+0900
TZOFFSETTO:+0900
TZNAME:JST
DTSTART:20250101T000000
END:STANDARD
END:VTIMEZONE
BEGIN:VEVENT
DTSTART;VALUE=DATE:20251026
DTEND;VALUE=DATE:20251027
DTSTAMP:20260420T030401
CREATED:20250920T212431Z
LAST-MODIFIED:20250920T212448Z
UID:3272-1761436800-1761523199@ombbc.e-ysd.net
SUMMARY:試合観戦（トヨタ紡織VSデンソー）
DESCRIPTION:試合観戦（トヨタ紡織VSデンソー）inウィングアリーナ刈谷 \n13:00～16:00 \n（全員・全員） \n
URL:https://ombbc.e-ysd.net/event/%e8%a9%a6%e5%90%88%e8%a6%b3%e6%88%a6%ef%bc%88%e3%83%88%e3%83%a8%e3%82%bf%e7%b4%a1%e7%b9%94vs%e3%83%87%e3%83%b3%e3%82%bd%e3%83%bc%ef%bc%89/
END:VEVENT
END:VCALENDAR