BEGIN:VCALENDAR
VERSION:2.0
PRODID:-//桶狭間ミニバスケットボールクラブ - ECPv4.9.4//NONSGML v1.0//EN
CALSCALE:GREGORIAN
METHOD:PUBLISH
X-WR-CALNAME:桶狭間ミニバスケットボールクラブ
X-ORIGINAL-URL:https://ombbc.e-ysd.net
X-WR-CALDESC:桶狭間ミニバスケットボールクラブ のイベント
BEGIN:VTIMEZONE
TZID:"Asia/Tokyo"
BEGIN:STANDARD
TZOFFSETFROM:+0900
TZOFFSETTO:+0900
TZNAME:JST
DTSTART:20250101T000000
END:STANDARD
END:VTIMEZONE
BEGIN:VEVENT
DTSTART;VALUE=DATE:20250915
DTEND;VALUE=DATE:20250916
DTSTAMP:20260420T061536
CREATED:20250816T042109Z
LAST-MODIFIED:20250816T042109Z
UID:3189-1757894400-1757980799@ombbc.e-ysd.net
SUMMARY:葉栗北オータムカップ
DESCRIPTION:葉栗北オータムカップin尾西スポーツセンター \n9:00～17:00 \n（6年・久・糸・井） \n
URL:https://ombbc.e-ysd.net/event/%e8%91%89%e6%a0%97%e5%8c%97%e3%82%aa%e3%83%bc%e3%82%bf%e3%83%a0%e3%82%ab%e3%83%83%e3%83%97/
END:VEVENT
END:VCALENDAR