BEGIN:VCALENDAR
VERSION:2.0
PRODID:-//桶狭間ミニバスケットボールクラブ - ECPv4.9.4//NONSGML v1.0//EN
CALSCALE:GREGORIAN
METHOD:PUBLISH
X-WR-CALNAME:桶狭間ミニバスケットボールクラブ
X-ORIGINAL-URL:https://ombbc.e-ysd.net
X-WR-CALDESC:桶狭間ミニバスケットボールクラブ のイベント
BEGIN:VTIMEZONE
TZID:"Asia/Tokyo"
BEGIN:STANDARD
TZOFFSETFROM:+0900
TZOFFSETTO:+0900
TZNAME:JST
DTSTART:20260101T000000
END:STANDARD
END:VTIMEZONE
BEGIN:VEVENT
DTSTART;VALUE=DATE:20260223
DTEND;VALUE=DATE:20260224
DTSTAMP:20260419T191036
CREATED:20260121T213232Z
LAST-MODIFIED:20260121T220356Z
UID:3475-1771804800-1771891199@ombbc.e-ysd.net
SUMMARY:練習
DESCRIPTION:練習in南陵小 \n13:00～16:00 \n（3年生以下・山） \n13:00～17:00 \n（4・5年生・山） \n
URL:https://ombbc.e-ysd.net/event/%e7%b7%b4%e7%bf%92-686/
END:VEVENT
END:VCALENDAR