BEGIN:VCALENDAR
VERSION:2.0
PRODID:-//桶狭間ミニバスケットボールクラブ - ECPv4.9.4//NONSGML v1.0//EN
CALSCALE:GREGORIAN
METHOD:PUBLISH
X-WR-CALNAME:桶狭間ミニバスケットボールクラブ
X-ORIGINAL-URL:https://ombbc.e-ysd.net
X-WR-CALDESC:桶狭間ミニバスケットボールクラブ のイベント
BEGIN:VTIMEZONE
TZID:"Asia/Tokyo"
BEGIN:STANDARD
TZOFFSETFROM:+0900
TZOFFSETTO:+0900
TZNAME:JST
DTSTART:20250101T000000
END:STANDARD
END:VTIMEZONE
BEGIN:VEVENT
DTSTART;VALUE=DATE:20251207
DTEND;VALUE=DATE:20251208
DTSTAMP:20260420T012027
CREATED:20251120T052825Z
LAST-MODIFIED:20251202T220141Z
UID:3348-1765065600-1765151999@ombbc.e-ysd.net
SUMMARY:練習
DESCRIPTION:練習試合in南陵小with東郷Bee \n13:00～17:00 \n（６年生・久・糸・井） \n
URL:https://ombbc.e-ysd.net/event/%e7%b7%b4%e7%bf%92-665/
END:VEVENT
END:VCALENDAR