BEGIN:VCALENDAR
VERSION:2.0
PRODID:-//桶狭間ミニバスケットボールクラブ - ECPv4.9.4//NONSGML v1.0//EN
CALSCALE:GREGORIAN
METHOD:PUBLISH
X-WR-CALNAME:桶狭間ミニバスケットボールクラブ
X-ORIGINAL-URL:https://ombbc.e-ysd.net
X-WR-CALDESC:桶狭間ミニバスケットボールクラブ のイベント
BEGIN:VTIMEZONE
TZID:"Asia/Tokyo"
BEGIN:STANDARD
TZOFFSETFROM:+0900
TZOFFSETTO:+0900
TZNAME:JST
DTSTART:20250101T000000
END:STANDARD
END:VTIMEZONE
BEGIN:VEVENT
DTSTART;VALUE=DATE:20250923
DTEND;VALUE=DATE:20250924
DTSTAMP:20260420T061020
CREATED:20250817T054309Z
LAST-MODIFIED:20250817T054309Z
UID:3219-1758585600-1758671999@ombbc.e-ysd.net
SUMMARY:練習
DESCRIPTION:練習in共長小学校 \n9:00～12:00 \n（4年生以下・水） \n
URL:https://ombbc.e-ysd.net/event/%e7%b7%b4%e7%bf%92-641/
END:VEVENT
END:VCALENDAR