BEGIN:VCALENDAR
VERSION:2.0
PRODID:-//桶狭間ミニバスケットボールクラブ - ECPv4.9.4//NONSGML v1.0//EN
CALSCALE:GREGORIAN
METHOD:PUBLISH
X-WR-CALNAME:桶狭間ミニバスケットボールクラブ
X-ORIGINAL-URL:https://ombbc.e-ysd.net
X-WR-CALDESC:桶狭間ミニバスケットボールクラブ のイベント
BEGIN:VTIMEZONE
TZID:"Asia/Tokyo"
BEGIN:STANDARD
TZOFFSETFROM:+0900
TZOFFSETTO:+0900
TZNAME:JST
DTSTART:20250101T000000
END:STANDARD
END:VTIMEZONE
BEGIN:VEVENT
DTSTART;VALUE=DATE:20250824
DTEND;VALUE=DATE:20250825
DTSTAMP:20260420T061021
CREATED:20250725T002922Z
LAST-MODIFIED:20250725T002922Z
UID:3176-1755993600-1756079999@ombbc.e-ysd.net
SUMMARY:練習
DESCRIPTION:練習in共和西小 \n13:00～17:00 \n（5年生以下・水） \n
URL:https://ombbc.e-ysd.net/event/%e7%b7%b4%e7%bf%92-630/
END:VEVENT
END:VCALENDAR