BEGIN:VCALENDAR
VERSION:2.0
PRODID:-//桶狭間ミニバスケットボールクラブ - ECPv4.9.4//NONSGML v1.0//EN
CALSCALE:GREGORIAN
METHOD:PUBLISH
X-WR-CALNAME:桶狭間ミニバスケットボールクラブ
X-ORIGINAL-URL:https://ombbc.e-ysd.net
X-WR-CALDESC:桶狭間ミニバスケットボールクラブ のイベント
BEGIN:VTIMEZONE
TZID:"Asia/Tokyo"
BEGIN:STANDARD
TZOFFSETFROM:+0900
TZOFFSETTO:+0900
TZNAME:JST
DTSTART:20250101T000000
END:STANDARD
END:VTIMEZONE
BEGIN:VEVENT
DTSTART;VALUE=DATE:20250803
DTEND;VALUE=DATE:20250804
DTSTAMP:20260420T061143
CREATED:20250723T065701Z
LAST-MODIFIED:20250725T002729Z
UID:3162-1754179200-1754265599@ombbc.e-ysd.net
SUMMARY:合同練習
DESCRIPTION:合同練習in共長小with東郷Bee \n13:00～17:00 \n（6年生・久・糸・井） \n
URL:https://ombbc.e-ysd.net/event/%e7%b7%b4%e7%bf%92-625/
END:VEVENT
END:VCALENDAR