BEGIN:VCALENDAR
VERSION:2.0
PRODID:-//桶狭間ミニバスケットボールクラブ - ECPv4.9.4//NONSGML v1.0//EN
CALSCALE:GREGORIAN
METHOD:PUBLISH
X-WR-CALNAME:桶狭間ミニバスケットボールクラブ
X-ORIGINAL-URL:https://ombbc.e-ysd.net
X-WR-CALDESC:桶狭間ミニバスケットボールクラブ のイベント
BEGIN:VTIMEZONE
TZID:"Asia/Tokyo"
BEGIN:STANDARD
TZOFFSETFROM:+0900
TZOFFSETTO:+0900
TZNAME:JST
DTSTART:20250101T000000
END:STANDARD
END:VTIMEZONE
BEGIN:VEVENT
DTSTART;VALUE=DATE:20250727
DTEND;VALUE=DATE:20250728
DTSTAMP:20260422T083829
CREATED:20250628T065437Z
LAST-MODIFIED:20250717T212450Z
UID:3144-1753574400-1753660799@ombbc.e-ysd.net
SUMMARY:練習
DESCRIPTION:練習in大府市立共長小 \n13:00～17:00 \n（5年生以下・山） \n
URL:https://ombbc.e-ysd.net/event/%e7%b7%b4%e7%bf%92-620/
END:VEVENT
END:VCALENDAR