BEGIN:VCALENDAR
VERSION:2.0
PRODID:-//桶狭間ミニバスケットボールクラブ - ECPv4.9.4//NONSGML v1.0//EN
CALSCALE:GREGORIAN
METHOD:PUBLISH
X-WR-CALNAME:桶狭間ミニバスケットボールクラブ
X-ORIGINAL-URL:https://ombbc.e-ysd.net
X-WR-CALDESC:桶狭間ミニバスケットボールクラブ のイベント
BEGIN:VTIMEZONE
TZID:"Asia/Tokyo"
BEGIN:STANDARD
TZOFFSETFROM:+0900
TZOFFSETTO:+0900
TZNAME:JST
DTSTART:20250101T000000
END:STANDARD
END:VTIMEZONE
BEGIN:VEVENT
DTSTART;VALUE=DATE:20250511
DTEND;VALUE=DATE:20250512
DTSTAMP:20260422T100452
CREATED:20250414T014037Z
LAST-MODIFIED:20250414T014953Z
UID:3005-1746921600-1747007999@ombbc.e-ysd.net
SUMMARY:練習
DESCRIPTION:練習in南陵小 \n未定 \n（5・6年・久・糸） \n
URL:https://ombbc.e-ysd.net/event/%e7%b7%b4%e7%bf%92-593/
END:VEVENT
END:VCALENDAR