BEGIN:VCALENDAR
VERSION:2.0
PRODID:-//桶狭間ミニバスケットボールクラブ - ECPv4.9.4//NONSGML v1.0//EN
CALSCALE:GREGORIAN
METHOD:PUBLISH
X-WR-CALNAME:桶狭間ミニバスケットボールクラブ
X-ORIGINAL-URL:https://ombbc.e-ysd.net
X-WR-CALDESC:桶狭間ミニバスケットボールクラブ のイベント
BEGIN:VTIMEZONE
TZID:"Asia/Tokyo"
BEGIN:STANDARD
TZOFFSETFROM:+0900
TZOFFSETTO:+0900
TZNAME:JST
DTSTART:20250101T000000
END:STANDARD
END:VTIMEZONE
BEGIN:VEVENT
DTSTART;VALUE=DATE:20250427
DTEND;VALUE=DATE:20250428
DTSTAMP:20260422T120443
CREATED:20250330T072129Z
LAST-MODIFIED:20250330T072129Z
UID:2988-1745712000-1745798399@ombbc.e-ysd.net
SUMMARY:練習
DESCRIPTION:練習in桶狭間小 \n9:00～12:00 \n（4年生以下・山・日） \n
URL:https://ombbc.e-ysd.net/event/%e7%b7%b4%e7%bf%92-591/
END:VEVENT
END:VCALENDAR