BEGIN:VCALENDAR
VERSION:2.0
PRODID:-//桶狭間ミニバスケットボールクラブ - ECPv4.9.4//NONSGML v1.0//EN
CALSCALE:GREGORIAN
METHOD:PUBLISH
X-WR-CALNAME:桶狭間ミニバスケットボールクラブ
X-ORIGINAL-URL:https://ombbc.e-ysd.net
X-WR-CALDESC:桶狭間ミニバスケットボールクラブ のイベント
BEGIN:VTIMEZONE
TZID:"Asia/Tokyo"
BEGIN:STANDARD
TZOFFSETFROM:+0900
TZOFFSETTO:+0900
TZNAME:JST
DTSTART:20250101T000000
END:STANDARD
END:VTIMEZONE
BEGIN:VEVENT
DTSTART;VALUE=DATE:20250420
DTEND;VALUE=DATE:20250421
DTSTAMP:20260422T164832
CREATED:20250330T071038Z
LAST-MODIFIED:20250414T011603Z
UID:2983-1745107200-1745193599@ombbc.e-ysd.net
SUMMARY:4年生以下お休み
DESCRIPTION:4年生以下お休み \n
URL:https://ombbc.e-ysd.net/event/%e7%b7%b4%e7%bf%92-590/
END:VEVENT
END:VCALENDAR