BEGIN:VCALENDAR
VERSION:2.0
PRODID:-//桶狭間ミニバスケットボールクラブ - ECPv4.9.4//NONSGML v1.0//EN
CALSCALE:GREGORIAN
METHOD:PUBLISH
X-WR-CALNAME:桶狭間ミニバスケットボールクラブ
X-ORIGINAL-URL:https://ombbc.e-ysd.net
X-WR-CALDESC:桶狭間ミニバスケットボールクラブ のイベント
BEGIN:VTIMEZONE
TZID:"Asia/Tokyo"
BEGIN:STANDARD
TZOFFSETFROM:+0900
TZOFFSETTO:+0900
TZNAME:JST
DTSTART:20250101T000000
END:STANDARD
END:VTIMEZONE
BEGIN:VEVENT
DTSTART;VALUE=DATE:20251108
DTEND;VALUE=DATE:20251109
DTSTAMP:20260420T012336
CREATED:20250819T052509Z
LAST-MODIFIED:20251023T215606Z
UID:3239-1762560000-1762646399@ombbc.e-ysd.net
SUMMARY:桶狭間の戦い【5年生大会】
DESCRIPTION:桶狭間の戦い【5年生大会】in飛島南部体育館 \n8:30～17:00 \n（4・5年・山） \n
URL:https://ombbc.e-ysd.net/event/%e6%a1%b6%e7%8b%ad%e9%96%93%e3%81%ae%e6%88%a6%e3%81%84%e3%80%905%e5%b9%b4%e7%94%9f%e5%a4%a7%e4%bc%9a%e3%80%91-5/
END:VEVENT
END:VCALENDAR