BEGIN:VCALENDAR
VERSION:2.0
PRODID:-//桶狭間ミニバスケットボールクラブ - ECPv4.9.4//NONSGML v1.0//EN
CALSCALE:GREGORIAN
METHOD:PUBLISH
X-WR-CALNAME:桶狭間ミニバスケットボールクラブ
X-ORIGINAL-URL:https://ombbc.e-ysd.net
X-WR-CALDESC:桶狭間ミニバスケットボールクラブ のイベント
BEGIN:VTIMEZONE
TZID:"Asia/Tokyo"
BEGIN:STANDARD
TZOFFSETFROM:+0900
TZOFFSETTO:+0900
TZNAME:JST
DTSTART:20260101T000000
END:STANDARD
END:VTIMEZONE
BEGIN:VEVENT
DTSTART;VALUE=DATE:20260308
DTEND;VALUE=DATE:20260309
DTSTAMP:20260419T221212
CREATED:20251018T225948Z
LAST-MODIFIED:20251018T230134Z
UID:3309-1772928000-1773014399@ombbc.e-ysd.net
SUMMARY:桶狭間の戦い【最後の陣】予選
DESCRIPTION:桶狭間の戦い【最後の陣】予選in尾西スポーツセンター \n9:00～19:00 \n  \n
URL:https://ombbc.e-ysd.net/event/%e6%a1%b6%e7%8b%ad%e9%96%93%e3%81%ae%e6%88%a6%e3%81%84%e3%80%90%e6%9c%80%e5%be%8c%e3%81%ae%e9%99%a3%e3%80%91-6/
END:VEVENT
END:VCALENDAR