BEGIN:VCALENDAR
VERSION:2.0
PRODID:-//桶狭間ミニバスケットボールクラブ - ECPv4.9.4//NONSGML v1.0//EN
CALSCALE:GREGORIAN
METHOD:PUBLISH
X-WR-CALNAME:桶狭間ミニバスケットボールクラブ
X-ORIGINAL-URL:https://ombbc.e-ysd.net
X-WR-CALDESC:桶狭間ミニバスケットボールクラブ のイベント
BEGIN:VTIMEZONE
TZID:"Asia/Tokyo"
BEGIN:STANDARD
TZOFFSETFROM:+0900
TZOFFSETTO:+0900
TZNAME:JST
DTSTART:20260101T000000
END:STANDARD
END:VTIMEZONE
BEGIN:VEVENT
DTSTART;VALUE=DATE:20260321
DTEND;VALUE=DATE:20260322
DTSTAMP:20260419T204401
CREATED:20251209T104059Z
LAST-MODIFIED:20260219T102125Z
UID:3398-1774051200-1774137599@ombbc.e-ysd.net
SUMMARY:桶狭間の戦い【新人戦】
DESCRIPTION:桶狭間の戦い【新人戦】inメディアス大府体育館 \n9:00～17:00 \n（5年・4年生以下2チームで参加・山・日・水） \n
URL:https://ombbc.e-ysd.net/event/%e6%a1%b6%e7%8b%ad%e9%96%93%e3%81%ae%e6%88%a6%e3%81%84%e3%80%90%e6%96%b0%e4%ba%ba%e6%88%a6%e3%80%91-3/
END:VEVENT
END:VCALENDAR