BEGIN:VCALENDAR
VERSION:2.0
PRODID:-//桶狭間ミニバスケットボールクラブ - ECPv4.9.4//NONSGML v1.0//EN
CALSCALE:GREGORIAN
METHOD:PUBLISH
X-WR-CALNAME:桶狭間ミニバスケットボールクラブ
X-ORIGINAL-URL:https://ombbc.e-ysd.net
X-WR-CALDESC:桶狭間ミニバスケットボールクラブ のイベント
BEGIN:VTIMEZONE
TZID:"Asia/Tokyo"
BEGIN:STANDARD
TZOFFSETFROM:+0900
TZOFFSETTO:+0900
TZNAME:JST
DTSTART:20250101T000000
END:STANDARD
END:VTIMEZONE
BEGIN:VEVENT
DTSTART;VALUE=DATE:20251220
DTEND;VALUE=DATE:20251221
DTSTAMP:20260420T012330
CREATED:20251018T223928Z
LAST-MODIFIED:20251018T223928Z
UID:3293-1766188800-1766275199@ombbc.e-ysd.net
SUMMARY:桶狭間の戦い【冬の陣】
DESCRIPTION:桶狭間の戦い【冬の陣】in飛島総合体育館・飛島南部体育館 \n9:00～17:00 \n（全員・全員） \n
URL:https://ombbc.e-ysd.net/event/%e6%a1%b6%e7%8b%ad%e9%96%93%e3%81%ae%e6%88%a6%e3%81%84%e3%80%90%e5%86%ac%e3%81%ae%e9%99%a3%e3%80%91/
END:VEVENT
END:VCALENDAR