BEGIN:VCALENDAR
VERSION:2.0
PRODID:-//桶狭間ミニバスケットボールクラブ - ECPv4.9.4//NONSGML v1.0//EN
CALSCALE:GREGORIAN
METHOD:PUBLISH
X-WR-CALNAME:桶狭間ミニバスケットボールクラブ
X-ORIGINAL-URL:https://ombbc.e-ysd.net
X-WR-CALDESC:桶狭間ミニバスケットボールクラブ のイベント
BEGIN:VTIMEZONE
TZID:"Asia/Tokyo"
BEGIN:STANDARD
TZOFFSETFROM:+0900
TZOFFSETTO:+0900
TZNAME:JST
DTSTART:20250101T000000
END:STANDARD
END:VTIMEZONE
BEGIN:VEVENT
DTSTART;VALUE=DATE:20251122
DTEND;VALUE=DATE:20251123
DTSTAMP:20260420T012329
CREATED:20250819T051559Z
LAST-MODIFIED:20250819T051559Z
UID:3232-1763769600-1763855999@ombbc.e-ysd.net
SUMMARY:木曽川ラインカップ
DESCRIPTION:木曽川ラインカップin八百津小 \n8:00～17:00 \n（6年・久・糸・井） \n
URL:https://ombbc.e-ysd.net/event/%e6%9c%a8%e6%9b%bd%e5%b7%9d%e3%83%a9%e3%82%a4%e3%83%b3%e3%82%ab%e3%83%83%e3%83%97-3/
END:VEVENT
END:VCALENDAR