BEGIN:VCALENDAR
VERSION:2.0
PRODID:-//桶狭間ミニバスケットボールクラブ - ECPv4.9.4//NONSGML v1.0//EN
CALSCALE:GREGORIAN
METHOD:PUBLISH
X-WR-CALNAME:桶狭間ミニバスケットボールクラブ
X-ORIGINAL-URL:https://ombbc.e-ysd.net
X-WR-CALDESC:桶狭間ミニバスケットボールクラブ のイベント
BEGIN:VTIMEZONE
TZID:"Asia/Tokyo"
BEGIN:STANDARD
TZOFFSETFROM:+0900
TZOFFSETTO:+0900
TZNAME:JST
DTSTART:20250101T000000
END:STANDARD
END:VTIMEZONE
BEGIN:VEVENT
DTSTART;VALUE=DATE:20251228
DTEND;VALUE=DATE:20251229
DTSTAMP:20260419T234511
CREATED:20251120T061202Z
LAST-MODIFIED:20251120T061702Z
UID:3362-1766880000-1766966399@ombbc.e-ysd.net
SUMMARY:忘年会
DESCRIPTION:忘年会 \n17:30～20:00 \n（全員・全員） \n
URL:https://ombbc.e-ysd.net/event/%e5%bf%98%e5%b9%b4%e4%bc%9a-2/
END:VEVENT
END:VCALENDAR