BEGIN:VCALENDAR
VERSION:2.0
PRODID:-//桶狭間ミニバスケットボールクラブ - ECPv4.9.4//NONSGML v1.0//EN
CALSCALE:GREGORIAN
METHOD:PUBLISH
X-WR-CALNAME:桶狭間ミニバスケットボールクラブ
X-ORIGINAL-URL:https://ombbc.e-ysd.net
X-WR-CALDESC:桶狭間ミニバスケットボールクラブ のイベント
BEGIN:VTIMEZONE
TZID:"Asia/Tokyo"
BEGIN:STANDARD
TZOFFSETFROM:+0900
TZOFFSETTO:+0900
TZNAME:JST
DTSTART:20250101T000000
END:STANDARD
END:VTIMEZONE
BEGIN:VEVENT
DTSTART;VALUE=DATE:20251013
DTEND;VALUE=DATE:20251014
DTSTAMP:20260420T042626
CREATED:20250429T120047Z
LAST-MODIFIED:20250429T120047Z
UID:3057-1760313600-1760399999@ombbc.e-ysd.net
SUMMARY:小信カップ
DESCRIPTION:小信カップin尾西スポーツセンター \n9:00～18:00 \n（6年生・久・糸・井） \n  \n
URL:https://ombbc.e-ysd.net/event/%e5%b0%8f%e4%bf%a1%e3%82%ab%e3%83%83%e3%83%97-7/
END:VEVENT
END:VCALENDAR