BEGIN:VCALENDAR
VERSION:2.0
PRODID:-//桶狭間ミニバスケットボールクラブ - ECPv4.9.4//NONSGML v1.0//EN
CALSCALE:GREGORIAN
METHOD:PUBLISH
X-WR-CALNAME:桶狭間ミニバスケットボールクラブ
X-ORIGINAL-URL:https://ombbc.e-ysd.net
X-WR-CALDESC:桶狭間ミニバスケットボールクラブ のイベント
BEGIN:VTIMEZONE
TZID:"Asia/Tokyo"
BEGIN:STANDARD
TZOFFSETFROM:+0900
TZOFFSETTO:+0900
TZNAME:JST
DTSTART:20260101T000000
END:STANDARD
END:VTIMEZONE
BEGIN:VEVENT
DTSTART;VALUE=DATE:20260125
DTEND;VALUE=DATE:20260126
DTSTAMP:20260419T220824
CREATED:20251209T101037Z
LAST-MODIFIED:20251209T101037Z
UID:3384-1769299200-1769385599@ombbc.e-ysd.net
SUMMARY:大会
DESCRIPTION:大会in飛島総合体育館 \n8:30～17:00 \n（6年生・久・糸・井） \n
URL:https://ombbc.e-ysd.net/event/%e5%a4%a7%e4%bc%9a-4/
END:VEVENT
END:VCALENDAR