BEGIN:VCALENDAR
VERSION:2.0
PRODID:-//桶狭間ミニバスケットボールクラブ - ECPv4.9.4//NONSGML v1.0//EN
CALSCALE:GREGORIAN
METHOD:PUBLISH
X-WR-CALNAME:桶狭間ミニバスケットボールクラブ
X-ORIGINAL-URL:https://ombbc.e-ysd.net
X-WR-CALDESC:桶狭間ミニバスケットボールクラブ のイベント
BEGIN:VTIMEZONE
TZID:"Asia/Tokyo"
BEGIN:STANDARD
TZOFFSETFROM:+0900
TZOFFSETTO:+0900
TZNAME:JST
DTSTART:20260101T000000
END:STANDARD
END:VTIMEZONE
BEGIN:VEVENT
DTSTART;VALUE=DATE:20260117
DTEND;VALUE=DATE:20260119
DTSTAMP:20260419T221855
CREATED:20251018T224603Z
LAST-MODIFIED:20251229T054439Z
UID:3303-1768608000-1768780799@ombbc.e-ysd.net
SUMMARY:南知多観光協会長杯
DESCRIPTION:南知多観光協会長杯in南知多町総合体育館 \n9:00～17:00 \n（4～6年生・久・糸・井） \n  \n
URL:https://ombbc.e-ysd.net/event/%e5%8d%97%e7%9f%a5%e5%a4%9a%e8%a6%b3%e5%85%89%e5%8d%94%e4%bc%9a%e9%95%b7%e6%9d%af-4/
END:VEVENT
END:VCALENDAR