BEGIN:VCALENDAR
VERSION:2.0
PRODID:-//桶狭間ミニバスケットボールクラブ - ECPv4.9.4//NONSGML v1.0//EN
CALSCALE:GREGORIAN
METHOD:PUBLISH
X-WR-CALNAME:桶狭間ミニバスケットボールクラブ
X-ORIGINAL-URL:https://ombbc.e-ysd.net
X-WR-CALDESC:桶狭間ミニバスケットボールクラブ のイベント
BEGIN:VTIMEZONE
TZID:"Asia/Tokyo"
BEGIN:STANDARD
TZOFFSETFROM:+0900
TZOFFSETTO:+0900
TZNAME:JST
DTSTART:20250101T000000
END:STANDARD
END:VTIMEZONE
BEGIN:VEVENT
DTSTART;VALUE=DATE:20250923
DTEND;VALUE=DATE:20250924
DTSTAMP:20260420T044001
CREATED:20250816T042154Z
LAST-MODIFIED:20250816T042325Z
UID:3192-1758585600-1758671999@ombbc.e-ysd.net
SUMMARY:千秋カップ
DESCRIPTION:千秋カップin一宮市総合体育館 \n9:00～19:00 \n（6年・久・糸・井） \n
URL:https://ombbc.e-ysd.net/event/%e5%8d%83%e7%a7%8b%e3%82%ab%e3%83%83%e3%83%97-8/
END:VEVENT
END:VCALENDAR