BEGIN:VCALENDAR
VERSION:2.0
PRODID:-//桶狭間ミニバスケットボールクラブ - ECPv4.9.4//NONSGML v1.0//EN
CALSCALE:GREGORIAN
METHOD:PUBLISH
X-WR-CALNAME:桶狭間ミニバスケットボールクラブ
X-ORIGINAL-URL:https://ombbc.e-ysd.net
X-WR-CALDESC:桶狭間ミニバスケットボールクラブ のイベント
BEGIN:VTIMEZONE
TZID:"Asia/Tokyo"
BEGIN:STANDARD
TZOFFSETFROM:+0900
TZOFFSETTO:+0900
TZNAME:JST
DTSTART:20250101T000000
END:STANDARD
END:VTIMEZONE
BEGIN:VEVENT
DTSTART;VALUE=DATE:20250329
DTEND;VALUE=DATE:20250330
DTSTAMP:20260423T045545
CREATED:20241229T203653Z
LAST-MODIFIED:20241229T203653Z
UID:2904-1743206400-1743292799@ombbc.e-ysd.net
SUMMARY:入団説明会
DESCRIPTION:入団説明会in南陵小 \n9:00～11:00 \n  \n
URL:https://ombbc.e-ysd.net/event/%e5%85%a5%e5%9b%a3%e8%aa%ac%e6%98%8e%e4%bc%9a-5/
END:VEVENT
END:VCALENDAR