BEGIN:VCALENDAR
VERSION:2.0
PRODID:-//桶狭間ミニバスケットボールクラブ - ECPv4.9.4//NONSGML v1.0//EN
CALSCALE:GREGORIAN
METHOD:PUBLISH
X-WR-CALNAME:桶狭間ミニバスケットボールクラブ
X-ORIGINAL-URL:https://ombbc.e-ysd.net
X-WR-CALDESC:桶狭間ミニバスケットボールクラブ のイベント
BEGIN:VTIMEZONE
TZID:"Asia/Tokyo"
BEGIN:STANDARD
TZOFFSETFROM:+0900
TZOFFSETTO:+0900
TZNAME:JST
DTSTART:20260101T000000
END:STANDARD
END:VTIMEZONE
BEGIN:VEVENT
DTSTART;VALUE=DATE:20260329
DTEND;VALUE=DATE:20260330
DTSTAMP:20260422T101448
CREATED:20251018T225808Z
LAST-MODIFIED:20251018T230245Z
UID:3305-1774742400-1774828799@ombbc.e-ysd.net
SUMMARY:入団説明会＆卒団式
DESCRIPTION:入団説明会in南陵小 \n9:00～11:00 \n（全員・全員） \n卒団式in南陵小 \n13:00～17:00 \n（全員・全員） \n  \n
URL:https://ombbc.e-ysd.net/event/%e5%85%a5%e5%9b%a3%e8%aa%ac%e6%98%8e%e4%bc%9a%ef%bc%86%e5%8d%92%e5%9b%a3%e5%bc%8f/
END:VEVENT
END:VCALENDAR