BEGIN:VCALENDAR
VERSION:2.0
PRODID:-//桶狭間ミニバスケットボールクラブ - ECPv4.9.4//NONSGML v1.0//EN
CALSCALE:GREGORIAN
METHOD:PUBLISH
X-WR-CALNAME:桶狭間ミニバスケットボールクラブ
X-ORIGINAL-URL:https://ombbc.e-ysd.net
X-WR-CALDESC:桶狭間ミニバスケットボールクラブ のイベント
BEGIN:VTIMEZONE
TZID:"Asia/Tokyo"
BEGIN:STANDARD
TZOFFSETFROM:+0900
TZOFFSETTO:+0900
TZNAME:JST
DTSTART:20250101T000000
END:STANDARD
END:VTIMEZONE
BEGIN:VEVENT
DTSTART;VALUE=DATE:20251129
DTEND;VALUE=DATE:20251201
DTSTAMP:20260420T012125
CREATED:20250920T213324Z
LAST-MODIFIED:20250920T213324Z
UID:3285-1764374400-1764547199@ombbc.e-ysd.net
SUMMARY:伊勢遠征
DESCRIPTION:伊勢遠征 \n（6年生・久・糸・井） \n
URL:https://ombbc.e-ysd.net/event/%e4%bc%8a%e5%8b%a2%e9%81%a0%e5%be%81/
END:VEVENT
END:VCALENDAR