BEGIN:VCALENDAR
VERSION:2.0
PRODID:-//桶狭間ミニバスケットボールクラブ - ECPv4.9.4//NONSGML v1.0//EN
CALSCALE:GREGORIAN
METHOD:PUBLISH
X-WR-CALNAME:桶狭間ミニバスケットボールクラブ
X-ORIGINAL-URL:https://ombbc.e-ysd.net
X-WR-CALDESC:桶狭間ミニバスケットボールクラブ のイベント
BEGIN:VTIMEZONE
TZID:"Asia/Tokyo"
BEGIN:STANDARD
TZOFFSETFROM:+0900
TZOFFSETTO:+0900
TZNAME:JST
DTSTART:20260101T000000
END:STANDARD
END:VTIMEZONE
BEGIN:VEVENT
DTSTART;VALUE=DATE:20260214
DTEND;VALUE=DATE:20260215
DTSTAMP:20260419T204059
CREATED:20251209T102333Z
LAST-MODIFIED:20251209T102333Z
UID:3390-1771027200-1771113599@ombbc.e-ysd.net
SUMMARY:久野杯
DESCRIPTION:久野杯in飛島南部体育館 \n9:00～17:00 \n（6年生・久・糸・井） \n
URL:https://ombbc.e-ysd.net/event/%e4%b9%85%e9%87%8e%e6%9d%af/
END:VEVENT
END:VCALENDAR