BEGIN:VCALENDAR
VERSION:2.0
PRODID:-//桶狭間ミニバスケットボールクラブ - ECPv4.9.4//NONSGML v1.0//EN
CALSCALE:GREGORIAN
METHOD:PUBLISH
X-WR-CALNAME:桶狭間ミニバスケットボールクラブ
X-ORIGINAL-URL:https://ombbc.e-ysd.net
X-WR-CALDESC:桶狭間ミニバスケットボールクラブ のイベント
BEGIN:VTIMEZONE
TZID:"Asia/Tokyo"
BEGIN:STANDARD
TZOFFSETFROM:+0900
TZOFFSETTO:+0900
TZNAME:JST
DTSTART:20250101T000000
END:STANDARD
END:VTIMEZONE
BEGIN:VEVENT
DTSTART;VALUE=DATE:20250816
DTEND;VALUE=DATE:20250817
DTSTAMP:20260420T062035
CREATED:20250609T231857Z
LAST-MODIFIED:20250609T231857Z
UID:3115-1755302400-1755388799@ombbc.e-ysd.net
SUMMARY:主催大会
DESCRIPTION:主催大会in木曽岬総合体育館 \n9:00～17:00 \n（3～5年生・未定） \n
URL:https://ombbc.e-ysd.net/event/%e4%b8%bb%e5%82%ac%e5%a4%a7%e4%bc%9a-2/
END:VEVENT
END:VCALENDAR