BEGIN:VCALENDAR
VERSION:2.0
PRODID:-//桶狭間ミニバスケットボールクラブ - ECPv4.9.4//NONSGML v1.0//EN
CALSCALE:GREGORIAN
METHOD:PUBLISH
X-WR-CALNAME:桶狭間ミニバスケットボールクラブ
X-ORIGINAL-URL:https://ombbc.e-ysd.net
X-WR-CALDESC:桶狭間ミニバスケットボールクラブ のイベント
BEGIN:VTIMEZONE
TZID:"Asia/Tokyo"
BEGIN:STANDARD
TZOFFSETFROM:+0900
TZOFFSETTO:+0900
TZNAME:JST
DTSTART:20250101T000000
END:STANDARD
END:VTIMEZONE
BEGIN:VEVENT
DTSTART;VALUE=DATE:20251011
DTEND;VALUE=DATE:20251012
DTSTAMP:20260420T030120
CREATED:20250920T205825Z
LAST-MODIFIED:20250920T205825Z
UID:3258-1760140800-1760227199@ombbc.e-ysd.net
SUMMARY:三遠ネオフェニックス前座試合
DESCRIPTION:三遠ネオフェニックス前座試合in豊橋市総合体育館 \n11:00～18:00 \n（6年生・久・糸・井） \n
URL:https://ombbc.e-ysd.net/event/%e4%b8%89%e9%81%a0%e3%83%8d%e3%82%aa%e3%83%95%e3%82%a7%e3%83%8b%e3%83%83%e3%82%af%e3%82%b9%e5%89%8d%e5%ba%a7%e8%a9%a6%e5%90%88/
END:VEVENT
END:VCALENDAR