BEGIN:VCALENDAR
VERSION:2.0
PRODID:-//桶狭間ミニバスケットボールクラブ - ECPv4.9.4//NONSGML v1.0//EN
CALSCALE:GREGORIAN
METHOD:PUBLISH
X-WR-CALNAME:桶狭間ミニバスケットボールクラブ
X-ORIGINAL-URL:https://ombbc.e-ysd.net
X-WR-CALDESC:桶狭間ミニバスケットボールクラブ のイベント
BEGIN:VTIMEZONE
TZID:"Asia/Tokyo"
BEGIN:STANDARD
TZOFFSETFROM:+0900
TZOFFSETTO:+0900
TZNAME:JST
DTSTART:20260101T000000
END:STANDARD
END:VTIMEZONE
BEGIN:VEVENT
DTSTART;VALUE=DATE:20260201
DTEND;VALUE=DATE:20260202
DTSTAMP:20260419T221126
CREATED:20260112T012120Z
LAST-MODIFIED:20260112T012821Z
UID:3454-1769904000-1769990399@ombbc.e-ysd.net
SUMMARY:三愛カップ
DESCRIPTION:三愛カップin飛島総合体育館 \n9:00～17:00 \n（4・5年生・日・水） \n
URL:https://ombbc.e-ysd.net/event/%e4%b8%89%e6%84%9b%e3%82%ab%e3%83%83%e3%83%97-6/
END:VEVENT
END:VCALENDAR