BEGIN:VCALENDAR
VERSION:2.0
PRODID:-//桶狭間ミニバスケットボールクラブ - ECPv4.9.4//NONSGML v1.0//EN
CALSCALE:GREGORIAN
METHOD:PUBLISH
X-WR-CALNAME:桶狭間ミニバスケットボールクラブ
X-ORIGINAL-URL:https://ombbc.e-ysd.net
X-WR-CALDESC:桶狭間ミニバスケットボールクラブ のイベント
BEGIN:VTIMEZONE
TZID:"Asia/Tokyo"
BEGIN:STANDARD
TZOFFSETFROM:+0900
TZOFFSETTO:+0900
TZNAME:JST
DTSTART:20260101T000000
END:STANDARD
END:VTIMEZONE
BEGIN:VEVENT
DTSTART;VALUE=DATE:20260221
DTEND;VALUE=DATE:20260222
DTSTAMP:20260419T204412
CREATED:20251209T102302Z
LAST-MODIFIED:20251209T102302Z
UID:3388-1771632000-1771718399@ombbc.e-ysd.net
SUMMARY:ムービックカップ
DESCRIPTION:ムービックカップ予選in未定 \n9:00～17:00 \n（6年生・久・糸・井） \n
URL:https://ombbc.e-ysd.net/event/%e3%83%a0%e3%83%bc%e3%83%93%e3%83%83%e3%82%af%e3%82%ab%e3%83%83%e3%83%97-2/
END:VEVENT
END:VCALENDAR