BEGIN:VCALENDAR
VERSION:2.0
PRODID:-//桶狭間ミニバスケットボールクラブ - ECPv4.9.4//NONSGML v1.0//EN
CALSCALE:GREGORIAN
METHOD:PUBLISH
X-WR-CALNAME:桶狭間ミニバスケットボールクラブ
X-ORIGINAL-URL:https://ombbc.e-ysd.net
X-WR-CALDESC:桶狭間ミニバスケットボールクラブ のイベント
BEGIN:VTIMEZONE
TZID:"Asia/Tokyo"
BEGIN:STANDARD
TZOFFSETFROM:+0900
TZOFFSETTO:+0900
TZNAME:JST
DTSTART:20250101T000000
END:STANDARD
END:VTIMEZONE
BEGIN:VEVENT
DTSTART;VALUE=DATE:20250706
DTEND;VALUE=DATE:20250707
DTSTAMP:20260424T083309
CREATED:20250613T231228Z
LAST-MODIFIED:20250613T231247Z
UID:3125-1751760000-1751846399@ombbc.e-ysd.net
SUMMARY:サマーエンジェルフェスティバル
DESCRIPTION:サマーエンジェルフェスティバルin木曽岬町総合体育館 \n9:00～17:00 \n（4・5・6年生・久・糸・井） \n
URL:https://ombbc.e-ysd.net/event/%e3%82%b5%e3%83%9e%e3%83%bc%e3%82%a8%e3%83%b3%e3%82%b8%e3%82%a7%e3%83%ab%e3%83%95%e3%82%a7%e3%82%b9%e3%83%86%e3%82%a3%e3%83%90%e3%83%ab-3/
END:VEVENT
END:VCALENDAR