BEGIN:VCALENDAR
VERSION:2.0
PRODID:-//桶狭間ミニバスケットボールクラブ - ECPv4.9.4//NONSGML v1.0//EN
CALSCALE:GREGORIAN
METHOD:PUBLISH
X-WR-CALNAME:桶狭間ミニバスケットボールクラブ
X-ORIGINAL-URL:https://ombbc.e-ysd.net
X-WR-CALDESC:桶狭間ミニバスケットボールクラブ のイベント
BEGIN:VTIMEZONE
TZID:"Asia/Tokyo"
BEGIN:STANDARD
TZOFFSETFROM:+0900
TZOFFSETTO:+0900
TZNAME:JST
DTSTART:20250101T000000
END:STANDARD
END:VTIMEZONE
BEGIN:VEVENT
DTSTART;VALUE=DATE:20251102
DTEND;VALUE=DATE:20251103
DTSTAMP:20260420T012412
CREATED:20250920T212904Z
LAST-MODIFIED:20250920T212904Z
UID:3278-1762041600-1762127999@ombbc.e-ysd.net
SUMMARY:エスコートキッズ（トヨタ紡織VS富士通）
DESCRIPTION:エスコートキッズin枇杷島スポーツセンター \n13:00～16:00 \n（5・6年生・久・糸・井） \n
URL:https://ombbc.e-ysd.net/event/%e3%82%a8%e3%82%b9%e3%82%b3%e3%83%bc%e3%83%88%e3%82%ad%e3%83%83%e3%82%ba%ef%bc%88%e3%83%88%e3%83%a8%e3%82%bf%e7%b4%a1%e7%b9%94vs%e5%af%8c%e5%a3%ab%e9%80%9a%ef%bc%89/
END:VEVENT
END:VCALENDAR