BEGIN:VCALENDAR
VERSION:2.0
PRODID:-//桶狭間ミニバスケットボールクラブ - ECPv4.9.4//NONSGML v1.0//EN
CALSCALE:GREGORIAN
METHOD:PUBLISH
X-WR-CALNAME:桶狭間ミニバスケットボールクラブ
X-ORIGINAL-URL:https://ombbc.e-ysd.net
X-WR-CALDESC:桶狭間ミニバスケットボールクラブ のイベント
BEGIN:VTIMEZONE
TZID:"Asia/Tokyo"
BEGIN:STANDARD
TZOFFSETFROM:+0900
TZOFFSETTO:+0900
TZNAME:JST
DTSTART:20250101T000000
END:STANDARD
END:VTIMEZONE
BEGIN:VEVENT
DTSTART;VALUE=DATE:20250601
DTEND;VALUE=DATE:20250602
DTSTAMP:20260422T084023
CREATED:20250529T014933Z
LAST-MODIFIED:20250529T015335Z
UID:3091-1748736000-1748822399@ombbc.e-ysd.net
SUMMARY:4年生以下お休み
DESCRIPTION:4年生以下練習お休み \n
URL:https://ombbc.e-ysd.net/event/%e3%81%8a%e4%bc%91%e3%81%bf-21/
END:VEVENT
END:VCALENDAR