BEGIN:VCALENDAR
VERSION:2.0
PRODID:-//桶狭間ミニバスケットボールクラブ - ECPv4.9.4//NONSGML v1.0//EN
CALSCALE:GREGORIAN
METHOD:PUBLISH
X-WR-CALNAME:桶狭間ミニバスケットボールクラブ
X-ORIGINAL-URL:http://ombbc.e-ysd.net
X-WR-CALDESC:桶狭間ミニバスケットボールクラブ のイベント
BEGIN:VTIMEZONE
TZID:"Asia/Tokyo"
BEGIN:STANDARD
TZOFFSETFROM:+0900
TZOFFSETTO:+0900
TZNAME:JST
DTSTART:20250101T000000
END:STANDARD
END:VTIMEZONE
BEGIN:VEVENT
DTSTART;VALUE=DATE:20250111
DTEND;VALUE=DATE:20250112
DTSTAMP:20260422T003837
CREATED:20241128T112932Z
LAST-MODIFIED:20241128T112932Z
UID:2830-1736553600-1736639999@ombbc.e-ysd.net
SUMMARY:OKカップ
DESCRIPTION:OKカップin飛島総合体育館 \n9:00～17:00 \n（6年生・久・糸・井） \n
URL:http://ombbc.e-ysd.net/event/ok%e3%82%ab%e3%83%83%e3%83%97-6/
END:VEVENT
END:VCALENDAR