BEGIN:VCALENDAR
VERSION:2.0
PRODID:-//桶狭間ミニバスケットボールクラブ - ECPv4.9.4//NONSGML v1.0//EN
CALSCALE:GREGORIAN
METHOD:PUBLISH
X-WR-CALNAME:桶狭間ミニバスケットボールクラブ
X-ORIGINAL-URL:http://ombbc.e-ysd.net
X-WR-CALDESC:桶狭間ミニバスケットボールクラブ のイベント
BEGIN:VTIMEZONE
TZID:"Asia/Tokyo"
BEGIN:STANDARD
TZOFFSETFROM:+0900
TZOFFSETTO:+0900
TZNAME:JST
DTSTART:20230101T000000
END:STANDARD
END:VTIMEZONE
BEGIN:VEVENT
DTSTART;VALUE=DATE:20230625
DTEND;VALUE=DATE:20230626
DTSTAMP:20260421T103546
CREATED:20230606T214555Z
LAST-MODIFIED:20230606T214556Z
UID:2072-1687651200-1687737599@ombbc.e-ysd.net
SUMMARY:KIKKO交流会
DESCRIPTION:KIKKO交流会in吉根小 \n9:00～16:30 \n（5・6年生・久・糸） \n
URL:http://ombbc.e-ysd.net/event/kikko%e4%ba%a4%e6%b5%81%e4%bc%9a-2/
END:VEVENT
END:VCALENDAR