BEGIN:VCALENDAR
VERSION:2.0
PRODID:-//桶狭間ミニバスケットボールクラブ - ECPv4.9.4//NONSGML v1.0//EN
CALSCALE:GREGORIAN
METHOD:PUBLISH
X-WR-CALNAME:桶狭間ミニバスケットボールクラブ
X-ORIGINAL-URL:http://ombbc.e-ysd.net
X-WR-CALDESC:桶狭間ミニバスケットボールクラブ のイベント
BEGIN:VTIMEZONE
TZID:"Asia/Tokyo"
BEGIN:STANDARD
TZOFFSETFROM:+0900
TZOFFSETTO:+0900
TZNAME:JST
DTSTART:20230101T000000
END:STANDARD
END:VTIMEZONE
BEGIN:VEVENT
DTSTART;VALUE=DATE:20230503
DTEND;VALUE=DATE:20230504
DTSTAMP:20260423T063320
CREATED:20230328T210501Z
LAST-MODIFIED:20230328T210501Z
UID:1945-1683072000-1683158399@ombbc.e-ysd.net
SUMMARY:KIKKOカップ
DESCRIPTION:KIKKOカップin武豊町総合体育館 \n9:00～18:00 \n（5・6年生・久・糸） \n
URL:http://ombbc.e-ysd.net/event/kikko%e3%82%ab%e3%83%83%e3%83%97-6/
END:VEVENT
END:VCALENDAR