BEGIN:VCALENDAR
VERSION:2.0
PRODID:-//桶狭間ミニバスケットボールクラブ - ECPv4.9.4//NONSGML v1.0//EN
CALSCALE:GREGORIAN
METHOD:PUBLISH
X-WR-CALNAME:桶狭間ミニバスケットボールクラブ
X-ORIGINAL-URL:http://ombbc.e-ysd.net
X-WR-CALDESC:桶狭間ミニバスケットボールクラブ のイベント
BEGIN:VTIMEZONE
TZID:"Asia/Tokyo"
BEGIN:STANDARD
TZOFFSETFROM:+0900
TZOFFSETTO:+0900
TZNAME:JST
DTSTART:20230101T000000
END:STANDARD
END:VTIMEZONE
BEGIN:VEVENT
DTSTART;VALUE=DATE:20230611
DTEND;VALUE=DATE:20230612
DTSTAMP:20260421T203135
CREATED:20230523T123558Z
LAST-MODIFIED:20230523T123645Z
UID:2039-1686441600-1686527999@ombbc.e-ysd.net
SUMMARY:練習
DESCRIPTION:練習in南陵小 \n9:00～12:00 \n（5・6年生・糸） \n
URL:http://ombbc.e-ysd.net/event/%e7%b7%b4%e7%bf%92-395/
END:VEVENT
END:VCALENDAR